BEGIN:VCALENDAR
VERSION:2.0
PRODID:-//Annecy Dojo Karaté : Cours de karaté pour tous niveaux - ECPv6.15.20//NONSGML v1.0//EN
CALSCALE:GREGORIAN
METHOD:PUBLISH
X-WR-CALNAME:Annecy Dojo Karaté : Cours de karaté pour tous niveaux
X-ORIGINAL-URL:https://annecy-karate.com
X-WR-CALDESC:Évènements pour Annecy Dojo Karaté : Cours de karaté pour tous niveaux
REFRESH-INTERVAL;VALUE=DURATION:PT1H
X-Robots-Tag:noindex
X-PUBLISHED-TTL:PT1H
BEGIN:VTIMEZONE
TZID:Europe/Paris
BEGIN:DAYLIGHT
TZOFFSETFROM:+0100
TZOFFSETTO:+0200
TZNAME:CEST
DTSTART:20240331T010000
END:DAYLIGHT
BEGIN:STANDARD
TZOFFSETFROM:+0200
TZOFFSETTO:+0100
TZNAME:CET
DTSTART:20241027T010000
END:STANDARD
BEGIN:DAYLIGHT
TZOFFSETFROM:+0100
TZOFFSETTO:+0200
TZNAME:CEST
DTSTART:20250330T010000
END:DAYLIGHT
BEGIN:STANDARD
TZOFFSETFROM:+0200
TZOFFSETTO:+0100
TZNAME:CET
DTSTART:20251026T010000
END:STANDARD
BEGIN:DAYLIGHT
TZOFFSETFROM:+0100
TZOFFSETTO:+0200
TZNAME:CEST
DTSTART:20260329T010000
END:DAYLIGHT
BEGIN:STANDARD
TZOFFSETFROM:+0200
TZOFFSETTO:+0100
TZNAME:CET
DTSTART:20261025T010000
END:STANDARD
END:VTIMEZONE
BEGIN:VEVENT
DTSTART;VALUE=DATE:20250818
DTEND;VALUE=DATE:20250821
DTSTAMP:20260419T151707
CREATED:20250714T075033Z
LAST-MODIFIED:20250714T075033Z
UID:1686-1755475200-1755734399@annecy-karate.com
SUMMARY:Stage Karaté 2025 – Voiron
DESCRIPTION:Participez au Stage Karaté 2025 à Voiron (38)\, animé par Jean-Luc Bui et Sylvain Falco. \n\nOuvert à tous niveaux (de pupille à senior\, groupes spécifiques et haut niveau)\nTechnique : Kata & combat\nPréparation physique et mentale\nStratégie et tactique\nEncadrement par membres de l’équipe de France\, médaillés internationaux et nationaux\n\nFormules disponibles : \n\n3 jours pension complète (hébergement + repas)\n3 jours sans hébergement (déjeuner inclus)\nPass journée (déjeuner inclus)\n\nLieu exceptionnel : Domaine de la Brunerie & Pôle de Vouise\, Voiron (38).
URL:https://annecy-karate.com/evenement/stage-karate-2025-voiron-2/
LOCATION:Tremplin Sport Formation\, Domaine de la Brunerie & Pôle de Vouise\, VOIRON\, France
CATEGORIES:Stage
ATTACH;FMTTYPE=image/jpeg:https://annecy-karate.com/wp-content/uploads/2025/07/stage-aout-2025.jpg
END:VEVENT
END:VCALENDAR